BEGIN:VCALENDAR
VERSION:2.0
PRODID:-//eventon.com NONSGML v1.0//EN
CALSCALE:GREGORIAN
METHOD:PUBLISH
BEGIN:VEVENT
UID:69e78f58a1b8c
DTSTAMP:20260421T145312Z
DTSTART:20260423T230000Z
DTEND:20260423T040000Z
LOCATION:
SUMMARY:2026 Buffalo Mafia Draft & Hockey Watch Party
DESCRIPTION:Join Gameday Hospitality Buffalo &amp; Rec Room Buffalo for an 
 All-Inclusive Draft Party for the 1st Round of the NFL Draft! EVENT DETAILS
 : Your event ticket includes all-inclusive food and beverages for the first
  three hours of the draft! Food Menu: Pizza\,  Wings\,  Chicken Fingers\,  
 Sahlen&#8217;s Hot Dogs Drink Menu:[..]\nhttps://www.gamedayhospitality.com
 /events/2026-buffalo-mafia-draft-and-hockey-watch-party/
URL:https://www.gamedayhospitality.com/events/2026-buffalo-mafia-draft-and-hockey-watch-party/
END:VEVENT
END:VCALENDAR