BEGIN:VCALENDAR
VERSION:2.0
PRODID:-//eventon.com NONSGML v1.0//EN
CALSCALE:GREGORIAN
METHOD:PUBLISH
BEGIN:VEVENT
UID:69e73fe061f52
DTSTAMP:20260421T091408Z
DTSTART:20260419T190000Z
DTEND:20260419T230000Z
LOCATION:
SUMMARY:Buffalo Goal Zone Tailgate
DESCRIPTION:2026 Buffalo Goal Zone Tailgate &#8211; Sabres vs Bruins Buffal
 o&#8217;s Premiere Tailgate Experience | April 19th | 3:00-7:00 Kick off yo
 ur playoff hockey experience at the Buffalo Goal Zone Tailgate\,  built to 
 provide the ultimate pre-game party before the first Buffalo home game of t
 he playoffs! Join us to enjoy[..]\nhttps://www.gamedayhospitality.com/event
 s/buffalo-goal-zone-tailgate/
URL:https://www.gamedayhospitality.com/events/buffalo-goal-zone-tailgate/
END:VEVENT
END:VCALENDAR