BEGIN:VCALENDAR
VERSION:2.0
PRODID:-//eventon.com NONSGML v1.0//EN
CALSCALE:GREGORIAN
METHOD:PUBLISH
BEGIN:VEVENT
UID:69e6af766112f
DTSTAMP:20260420T225758Z
DTSTART:20190217
DTEND:20190218
LOCATION:Daytona International Speedway 1801 W International Speedway Blvd\,  Daytona Beach\,  FL 32114
SUMMARY:VIP Racing Experience - Daytona 500
DESCRIPTION:VIP Racing Experience - Daytona 500\nhttps://www.gamedayhospita
 lity.com/events/vip-racing-experience-daytona-500-2/
URL:https://www.gamedayhospitality.com/events/vip-racing-experience-daytona-500-2/
END:VEVENT
END:VCALENDAR