BEGIN:VCALENDAR
VERSION:2.0
PRODID:-//eventon.com NONSGML v1.0//EN
CALSCALE:GREGORIAN
METHOD:PUBLISH
BEGIN:VEVENT
UID:69e6ed2c599c1
DTSTAMP:20260421T032116Z
DTSTART:20181118T010000Z
DTEND:20181118T010000Z
LOCATION:Homestead-Miami Speedway
SUMMARY:VIP Racing Experience - Homestead-Miami (Championship)
DESCRIPTION:VIP Racing Experience - Homestead-Miami (Championship)\nhttps:/
 /www.gamedayhospitality.com/events/vip-racing-experience-homestead-miami-ch
 ampionship-2/
URL:https://www.gamedayhospitality.com/events/vip-racing-experience-homestead-miami-championship-2/
END:VEVENT
END:VCALENDAR