BEGIN:VCALENDAR
VERSION:2.0
PRODID:-//eventon.com NONSGML v1.0//EN
CALSCALE:GREGORIAN
METHOD:PUBLISH
BEGIN:VEVENT
UID:69e69f23e5bf2
DTSTAMP:20260420T214819Z
DTSTART:20170903T010000Z
DTEND:20170903T010000Z
LOCATION:
SUMMARY:VIP Racing Experience – Darlington
DESCRIPTION:VIP Racing Experience – Darlington\nhttps://www.gamedayhospit
 ality.com/events/vip-racing-experience-darlington/
URL:https://www.gamedayhospitality.com/events/vip-racing-experience-darlington/
END:VEVENT
END:VCALENDAR