BEGIN:VCALENDAR
VERSION:2.0
PRODID:-//eventon.com NONSGML v1.0//EN
CALSCALE:GREGORIAN
METHOD:PUBLISH
BEGIN:VEVENT
UID:69ebc6f7c3ccd
DTSTAMP:20260424T193935Z
DTSTART:20171201T163000Z
DTEND:20171201T190000Z
LOCATION:
SUMMARY:Buffalo Gold Zone Pre-Game Party - vs. Pittsburgh
DESCRIPTION:Buffalo Gold Zone Pre-Game Party - vs. Pittsburgh\nhttps://www.
 gamedayhospitality.com/events/buffalo-gold-zone-pre-game-party-pittsburgh/
URL:https://www.gamedayhospitality.com/events/buffalo-gold-zone-pre-game-party-pittsburgh/
END:VEVENT
END:VCALENDAR